BEGIN:VCALENDAR
VERSION:2.0
PRODID:-//Newcastle Karate - ECPv4.8//NONSGML v1.0//EN
CALSCALE:GREGORIAN
METHOD:PUBLISH
X-WR-CALNAME:Newcastle Karate
X-ORIGINAL-URL:http://newcastlekarate.com.au
X-WR-CALDESC:Events for Newcastle Karate
BEGIN:VEVENT
DTSTART;VALUE=DATE:20190413
DTEND;VALUE=DATE:20190414
DTSTAMP:20190227T063351
CREATED:20190106T225219Z
LAST-MODIFIED:20190106T225219Z
UID:1573-1555113600-1555199999@newcastlekarate.com.au
SUMMARY:last class for term 1
DESCRIPTION:
URL:http://newcastlekarate.com.au/event/last-class-for-term-1/
END:VEVENT
BEGIN:VEVENT
DTSTART;TZID=Australia/Sydney:20190429T160000
DTEND;TZID=Australia/Sydney:20190429T170000
DTSTAMP:20190227T063351
CREATED:20190106T225306Z
LAST-MODIFIED:20190106T225306Z
UID:1575-1556553600-1556557200@newcastlekarate.com.au
SUMMARY:Start of term 2
DESCRIPTION:
URL:http://newcastlekarate.com.au/event/start-of-term-2/
END:VEVENT
BEGIN:VEVENT
DTSTART;TZID=Australia/Sydney:20190519T090000
DTEND;TZID=Australia/Sydney:20190519T110000
DTSTAMP:20190227T063351
CREATED:20190106T225510Z
LAST-MODIFIED:20190106T225909Z
UID:1577-1558256400-1558263600@newcastlekarate.com.au
SUMMARY:Juniors Belt Grading (ages 9-12)
DESCRIPTION:Grading is by invitation. Please speak to Sensei Marc \n
URL:http://newcastlekarate.com.au/event/juniors-belt-grading-ages-9-12/
END:VEVENT
BEGIN:VEVENT
DTSTART;TZID=Australia/Sydney:20190519T110000
DTEND;TZID=Australia/Sydney:20190519T160000
DTSTAMP:20190227T063351
CREATED:20190106T225814Z
LAST-MODIFIED:20190106T225814Z
UID:1579-1558263600-1558281600@newcastlekarate.com.au
SUMMARY:Teen/Adults Belt Grading
DESCRIPTION:Grading is by invitation. Please speak to Sensei Marc \n
URL:http://newcastlekarate.com.au/event/teen-adults-belt-grading/
END:VEVENT
BEGIN:VEVENT
DTSTART;VALUE=DATE:20190706
DTEND;VALUE=DATE:20190707
DTSTAMP:20190227T063351
CREATED:20190106T225945Z
LAST-MODIFIED:20190106T225955Z
UID:1582-1562371200-1562457599@newcastlekarate.com.au
SUMMARY:End of term 2
DESCRIPTION:
URL:http://newcastlekarate.com.au/event/end-of-term-2/
END:VEVENT
BEGIN:VEVENT
DTSTART;TZID=Australia/Sydney:20190722T160000
DTEND;TZID=Australia/Sydney:20190722T200000
DTSTAMP:20190227T063351
CREATED:20190106T230037Z
LAST-MODIFIED:20190106T230511Z
UID:1584-1563811200-1563825600@newcastlekarate.com.au
SUMMARY:Start of term 3
DESCRIPTION:
URL:http://newcastlekarate.com.au/event/start-term-3/
END:VEVENT
BEGIN:VEVENT
DTSTART;TZID=Australia/Sydney:20190825T090000
DTEND;TZID=Australia/Sydney:20190825T110000
DTSTAMP:20190227T063351
CREATED:20190106T230157Z
LAST-MODIFIED:20190106T230207Z
UID:1586-1566723600-1566730800@newcastlekarate.com.au
SUMMARY:Juniors Grading (ages 9-12)
DESCRIPTION:Grading is by invitation. Please speak to Sensei Marc \n
URL:http://newcastlekarate.com.au/event/junior-grading-ages-9-12/
END:VEVENT
BEGIN:VEVENT
DTSTART;TZID=Australia/Sydney:20190825T110000
DTEND;TZID=Australia/Sydney:20190825T160000
DTSTAMP:20190227T063351
CREATED:20190106T230305Z
LAST-MODIFIED:20190106T230305Z
UID:1589-1566730800-1566748800@newcastlekarate.com.au
SUMMARY:Teen / Adults Grading
DESCRIPTION:Grading is by invitation. Please speak to Sensei Marc \n
URL:http://newcastlekarate.com.au/event/teen-adults-grading/
END:VEVENT
BEGIN:VEVENT
DTSTART;VALUE=DATE:20190927
DTEND;VALUE=DATE:20190928
DTSTAMP:20190227T063351
CREATED:20190106T230410Z
LAST-MODIFIED:20190106T230410Z
UID:1591-1569542400-1569628799@newcastlekarate.com.au
SUMMARY:End of term 3
DESCRIPTION:
URL:http://newcastlekarate.com.au/event/end-of-term-3/
END:VEVENT
BEGIN:VEVENT
DTSTART;TZID=Australia/Sydney:20191014T160000
DTEND;TZID=Australia/Sydney:20191014T200000
DTSTAMP:20190227T063351
CREATED:20190106T230610Z
LAST-MODIFIED:20190106T230610Z
UID:1594-1571068800-1571083200@newcastlekarate.com.au
SUMMARY:Start of term 4
DESCRIPTION:
URL:http://newcastlekarate.com.au/event/start-of-term-4/
END:VEVENT
BEGIN:VEVENT
DTSTART;VALUE=DATE:20191028
DTEND;VALUE=DATE:20191102
DTSTAMP:20190227T063351
CREATED:20190106T231054Z
LAST-MODIFIED:20190106T231054Z
UID:1598-1572220800-1572652799@newcastlekarate.com.au
SUMMARY:Halloween Dress up Week
DESCRIPTION:Dress up week in all kids classes. Halloween games and activities. \n
URL:http://newcastlekarate.com.au/event/halloween-dress-up-week/
END:VEVENT
BEGIN:VEVENT
DTSTART;TZID=Australia/Sydney:20191215T090000
DTEND;TZID=Australia/Sydney:20191215T110000
DTSTAMP:20190227T063351
CREATED:20190106T231200Z
LAST-MODIFIED:20190106T231213Z
UID:1600-1576400400-1576407600@newcastlekarate.com.au
SUMMARY:Juniors Belt Grading (ages 9-12)
DESCRIPTION:Grading is by invitation. Please speak to Sensei Marc \n
URL:http://newcastlekarate.com.au/event/juniors-belt-grading/
END:VEVENT
BEGIN:VEVENT
DTSTART;TZID=Australia/Sydney:20191215T110000
DTEND;TZID=Australia/Sydney:20191215T160000
DTSTAMP:20190227T063351
CREATED:20190106T231308Z
LAST-MODIFIED:20190106T231308Z
UID:1603-1576407600-1576425600@newcastlekarate.com.au
SUMMARY:Teen /Adults Belt Grading
DESCRIPTION:Grading is by invitation. Please speak to Sensei Marc \n
URL:http://newcastlekarate.com.au/event/teen-adults-belt-grading-2/
END:VEVENT
BEGIN:VEVENT
DTSTART;TZID=Australia/Sydney:20191220T183000
DTEND;TZID=Australia/Sydney:20191220T233000
DTSTAMP:20190227T063351
CREATED:20190106T231754Z
LAST-MODIFIED:20190106T231754Z
UID:1610-1576866600-1576884600@newcastlekarate.com.au
SUMMARY:Adults Xmas Party
DESCRIPTION:Venue to TBC \n
URL:http://newcastlekarate.com.au/event/adults-xmas-party-2/
END:VEVENT
BEGIN:VEVENT
DTSTART;TZID=Australia/Sydney:20191221T080000
DTEND;TZID=Australia/Sydney:20191221T113000
DTSTAMP:20190227T063351
CREATED:20190106T231506Z
LAST-MODIFIED:20190106T231559Z
UID:1605-1576915200-1576927800@newcastlekarate.com.au
SUMMARY:Last class for the 2019
DESCRIPTION:Dojo re opens Monday the 5th of January \n
URL:http://newcastlekarate.com.au/event/last-class-for-the-2019/
END:VEVENT
BEGIN:VEVENT
DTSTART;TZID=Australia/Sydney:20200106T160000
DTEND;TZID=Australia/Sydney:20200106T200000
DTSTAMP:20190227T063351
CREATED:20190106T231701Z
LAST-MODIFIED:20190106T231701Z
UID:1608-1578326400-1578340800@newcastlekarate.com.au
SUMMARY:First class back for 2020
DESCRIPTION:
URL:http://newcastlekarate.com.au/event/first-class-back-for-2020/
END:VEVENT
END:VCALENDAR